BEGIN:VCALENDAR
VERSION:2.0
PRODID:-//Fort Myers Beach Community Foundation - ECPv6.15.18//NONSGML v1.0//EN
CALSCALE:GREGORIAN
METHOD:PUBLISH
X-ORIGINAL-URL:https://fmbcommunityfoundation.com
X-WR-CALDESC:Events for Fort Myers Beach Community Foundation
REFRESH-INTERVAL;VALUE=DURATION:PT1H
X-Robots-Tag:noindex
X-PUBLISHED-TTL:PT1H
BEGIN:VTIMEZONE
TZID:UTC
BEGIN:STANDARD
TZOFFSETFROM:+0000
TZOFFSETTO:+0000
TZNAME:UTC
DTSTART:20210101T000000
END:STANDARD
END:VTIMEZONE
BEGIN:VEVENT
DTSTART;TZID=UTC:20220101T080000
DTEND;TZID=UTC:20220101T110000
DTSTAMP:20260420T000030
CREATED:20211122T194606Z
LAST-MODIFIED:20211122T194625Z
UID:39822-1641024000-1641034800@fmbcommunityfoundation.com
SUMMARY:KLCB Beach Clean Up
DESCRIPTION:Meet at Times Square.
URL:https://fmbcommunityfoundation.com/event/klcb-beach-clean-up/
ATTACH;FMTTYPE=image/jpeg:https://fmbcommunityfoundation.com/wp-content/uploads/2021/11/download.jpg
END:VEVENT
END:VCALENDAR