BEGIN:VCALENDAR
VERSION:2.0
PRODID:-//Fort Myers Beach Community Foundation - ECPv6.15.18//NONSGML v1.0//EN
CALSCALE:GREGORIAN
METHOD:PUBLISH
X-WR-CALNAME:Fort Myers Beach Community Foundation
X-ORIGINAL-URL:https://fmbcommunityfoundation.com
X-WR-CALDESC:Events for Fort Myers Beach Community Foundation
REFRESH-INTERVAL;VALUE=DURATION:PT1H
X-Robots-Tag:noindex
X-PUBLISHED-TTL:PT1H
BEGIN:VTIMEZONE
TZID:UTC
BEGIN:STANDARD
TZOFFSETFROM:+0000
TZOFFSETTO:+0000
TZNAME:UTC
DTSTART:20210101T000000
END:STANDARD
END:VTIMEZONE
BEGIN:VEVENT
DTSTART;TZID=UTC:20220104T190000
DTEND;TZID=UTC:20220104T210000
DTSTAMP:20260420T023943
CREATED:20211122T195557Z
LAST-MODIFIED:20211122T195557Z
UID:39835-1641322800-1641330000@fmbcommunityfoundation.com
SUMMARY:Drag Queen Bingo
DESCRIPTION:Join us for a fun evening at Nauti Parrot.
URL:https://fmbcommunityfoundation.com/event/drag-queen-bingo/
CATEGORIES:Events
ATTACH;FMTTYPE=image/jpeg:https://fmbcommunityfoundation.com/wp-content/uploads/2021/11/drag-queen-bingo-nauti-parrot-fort-myers-beach.jpg
END:VEVENT
END:VCALENDAR