BEGIN:VCALENDAR
VERSION:2.0
PRODID:-//Fort Myers Beach Community Foundation - ECPv6.15.18//NONSGML v1.0//EN
CALSCALE:GREGORIAN
METHOD:PUBLISH
X-WR-CALNAME:Fort Myers Beach Community Foundation
X-ORIGINAL-URL:https://fmbcommunityfoundation.com
X-WR-CALDESC:Events for Fort Myers Beach Community Foundation
REFRESH-INTERVAL;VALUE=DURATION:PT1H
X-Robots-Tag:noindex
X-PUBLISHED-TTL:PT1H
BEGIN:VTIMEZONE
TZID:UTC
BEGIN:STANDARD
TZOFFSETFROM:+0000
TZOFFSETTO:+0000
TZNAME:UTC
DTSTART:20210101T000000
END:STANDARD
END:VTIMEZONE
BEGIN:VEVENT
DTSTART;TZID=UTC:20220111T090000
DTEND;TZID=UTC:20220111T120000
DTSTAMP:20260422T125302
CREATED:20211122T194733Z
LAST-MODIFIED:20211122T194733Z
UID:39826-1641891600-1641902400@fmbcommunityfoundation.com
SUMMARY:Marine Resource Task Force
DESCRIPTION:Marine Resource Task Force at Newton Park.
URL:https://fmbcommunityfoundation.com/event/marine-resource-task-force/
ATTACH;FMTTYPE=image/jpeg:https://fmbcommunityfoundation.com/wp-content/uploads/2021/11/MRTF-696x666-1.jpg
END:VEVENT
BEGIN:VEVENT
DTSTART;TZID=UTC:20220111T190000
DTEND;TZID=UTC:20220111T210000
DTSTAMP:20260422T125302
CREATED:20211122T195648Z
LAST-MODIFIED:20211122T195648Z
UID:39838-1641927600-1641934800@fmbcommunityfoundation.com
SUMMARY:Drag Queen Bingo
DESCRIPTION:Join us for a fun evening at Nauti Parrot.
URL:https://fmbcommunityfoundation.com/event/drag-queen-bingo-2/
CATEGORIES:Events
ATTACH;FMTTYPE=image/jpeg:https://fmbcommunityfoundation.com/wp-content/uploads/2021/11/drag-queen-bingo-nauti-parrot-fort-myers-beach.jpg
END:VEVENT
END:VCALENDAR