BEGIN:VCALENDAR
VERSION:2.0
PRODID:-//Fort Myers Beach Community Foundation - ECPv6.15.18//NONSGML v1.0//EN
CALSCALE:GREGORIAN
METHOD:PUBLISH
X-ORIGINAL-URL:https://fmbcommunityfoundation.com
X-WR-CALDESC:Events for Fort Myers Beach Community Foundation
REFRESH-INTERVAL;VALUE=DURATION:PT1H
X-Robots-Tag:noindex
X-PUBLISHED-TTL:PT1H
BEGIN:VTIMEZONE
TZID:UTC
BEGIN:STANDARD
TZOFFSETFROM:+0000
TZOFFSETTO:+0000
TZNAME:UTC
DTSTART:20210101T000000
END:STANDARD
END:VTIMEZONE
BEGIN:VEVENT
DTSTART;TZID=UTC:20220125T130000
DTEND;TZID=UTC:20220125T160000
DTSTAMP:20260422T155147
CREATED:20211122T195332Z
LAST-MODIFIED:20211122T195332Z
UID:39833-1643115600-1643126400@fmbcommunityfoundation.com
SUMMARY:Marine Resource Task Force
DESCRIPTION:Marine Resource Task Force at Newton Park.
URL:https://fmbcommunityfoundation.com/event/marine-resource-task-force-2/
CATEGORIES:Events
ATTACH;FMTTYPE=image/jpeg:https://fmbcommunityfoundation.com/wp-content/uploads/2021/11/MRTF-696x666-1.jpg
END:VEVENT
BEGIN:VEVENT
DTSTART;TZID=UTC:20220125T190000
DTEND;TZID=UTC:20220125T210000
DTSTAMP:20260422T155147
CREATED:20211122T195810Z
LAST-MODIFIED:20211122T195810Z
UID:39842-1643137200-1643144400@fmbcommunityfoundation.com
SUMMARY:Drag Queen Bingo
DESCRIPTION:Join us for a fun evening at Nauti Parrot.
URL:https://fmbcommunityfoundation.com/event/drag-queen-bingo-4/
CATEGORIES:Events
ATTACH;FMTTYPE=image/jpeg:https://fmbcommunityfoundation.com/wp-content/uploads/2021/11/drag-queen-bingo-nauti-parrot-fort-myers-beach.jpg
END:VEVENT
END:VCALENDAR