BEGIN:VCALENDAR
VERSION:2.0
PRODID:-//Fort Myers Beach Community Foundation - ECPv6.15.18//NONSGML v1.0//EN
CALSCALE:GREGORIAN
METHOD:PUBLISH
X-WR-CALNAME:Fort Myers Beach Community Foundation
X-ORIGINAL-URL:https://fmbcommunityfoundation.com
X-WR-CALDESC:Events for Fort Myers Beach Community Foundation
REFRESH-INTERVAL;VALUE=DURATION:PT1H
X-Robots-Tag:noindex
X-PUBLISHED-TTL:PT1H
BEGIN:VTIMEZONE
TZID:UTC
BEGIN:STANDARD
TZOFFSETFROM:+0000
TZOFFSETTO:+0000
TZNAME:UTC
DTSTART:20210101T000000
END:STANDARD
END:VTIMEZONE
BEGIN:VEVENT
DTSTART;TZID=UTC:20220127T190000
DTEND;TZID=UTC:20220127T210000
DTSTAMP:20260419T161242
CREATED:20211208T020314Z
LAST-MODIFIED:20220127T232433Z
UID:39919-1643310000-1643317200@fmbcommunityfoundation.com
SUMMARY:Jeff Coffey and Back to Chicago #WeAreFMB Live!
DESCRIPTION:This season\, the Fort Myers Beach Community Foundation presents its outdoor concert series\, #WeAreFMB Live! in partnership with Fish Tale Marina.  \nThe concerts of  #WeAreFMB Live! will take place at Fish Tale Marina\, 7225 Estero Blvd.\, Fort Myers Beach. Refreshments will be available for purchase on site at Fish-Tale Waterfront Dining. Gates will open at 6pm. Concerts begin at 7pm. Chairs will be provided. Parking is available at Fish Tale Marina.  \nTickets $30 Per Concert\nPrint and save your emailed receipt\, as it will serve as your concert ticket.\n In the event of inclement weather\, concerts will be held in Fish Tale Marina’s Propeller Lounge. Tickets are non-refundable.  \nWhen you arrive on the day of the concert\, please present your emailed receipt to our volunteers. They will provide you with a wristband for entrance to the event. \n Join us at #WeAreFMB Live! Enjoy Live performances by talented musicians! \n  \nDue to popular demand on line tickets are no longer available.  Tickets can be purchased at the door for $40 and will be standing room only.
URL:https://fmbcommunityfoundation.com/event/jeff-coffey-and-back-to-chicago-wearefmb-live/
CATEGORIES:Events
ATTACH;FMTTYPE=image/jpeg:https://fmbcommunityfoundation.com/wp-content/uploads/2021/12/jeff-coffey-concert-back-to-chicago-image.jpg
END:VEVENT
END:VCALENDAR