BEGIN:VCALENDAR
VERSION:2.0
PRODID:-//Fort Myers Beach Community Foundation - ECPv6.15.18//NONSGML v1.0//EN
CALSCALE:GREGORIAN
METHOD:PUBLISH
X-ORIGINAL-URL:https://fmbcommunityfoundation.com
X-WR-CALDESC:Events for Fort Myers Beach Community Foundation
REFRESH-INTERVAL;VALUE=DURATION:PT1H
X-Robots-Tag:noindex
X-PUBLISHED-TTL:PT1H
BEGIN:VTIMEZONE
TZID:UTC
BEGIN:STANDARD
TZOFFSETFROM:+0000
TZOFFSETTO:+0000
TZNAME:UTC
DTSTART:20210101T000000
END:STANDARD
END:VTIMEZONE
BEGIN:VEVENT
DTSTART;TZID=UTC:20220312T100000
DTEND;TZID=UTC:20220312T180000
DTSTAMP:20260420T012901
CREATED:20220309T041016Z
LAST-MODIFIED:20220309T041016Z
UID:40497-1647079200-1647108000@fmbcommunityfoundation.com
SUMMARY:Shrimp Festival 2022
DESCRIPTION:Join the Fort Myers Beach Lion’s Club as they celebrate our local shrimp industry at our annual Shrimp Festival. There will be plenty of ‘pink gold’ or pink gulf shrimp that our area is famous for.  Plus\, vendors\, a parade and other activities are also part of the tradition. \nShrimp Festival Parade\nThe parade begins at 10 A.M. on Saturday. The parade will begin down by Fort Myers Beach Elementary School and end at Lynn Hall Park next to Times Square. Afterwards the Shrimp Festival Pageant will crown this year’s Shrimp Queen. Find a good spot along the way to watch and enjoy! \nShrimp Festival\nAfter the parade the festival continues for two days. The highlight are the famous shrimp dinners sold by the Lion’s club. There will also be over 100 vendors selling all different kinds of interesting things. \nParking and Public Transportation\nClick here for more information on parking options on beach. \nYou can also leave you car off island and take the trolley down to the Fort Myers Beach Shrimp Festival. LeeTran will also be running their free tram service to help you get around. Click here for more information on the trolley and tram. \nThis event runs from March 12\, 2022 10:00 am to March 13\, 2022 10:00 am.
URL:https://fmbcommunityfoundation.com/event/shrimp-festival-2022-on-fort-myers-beach/
CATEGORIES:Events
ATTACH;FMTTYPE=image/jpeg:https://fmbcommunityfoundation.com/wp-content/uploads/2022/03/shrimp-festival-fort-myers-beach.jpg
END:VEVENT
END:VCALENDAR