BEGIN:VCALENDAR
VERSION:2.0
PRODID:-//Fort Myers Beach Community Foundation - ECPv6.15.18//NONSGML v1.0//EN
CALSCALE:GREGORIAN
METHOD:PUBLISH
X-WR-CALNAME:Fort Myers Beach Community Foundation
X-ORIGINAL-URL:https://fmbcommunityfoundation.com
X-WR-CALDESC:Events for Fort Myers Beach Community Foundation
REFRESH-INTERVAL;VALUE=DURATION:PT1H
X-Robots-Tag:noindex
X-PUBLISHED-TTL:PT1H
BEGIN:VTIMEZONE
TZID:UTC
BEGIN:STANDARD
TZOFFSETFROM:+0000
TZOFFSETTO:+0000
TZNAME:UTC
DTSTART:20210101T000000
END:STANDARD
END:VTIMEZONE
BEGIN:VEVENT
DTSTART;TZID=UTC:20220317T100000
DTEND;TZID=UTC:20220317T143000
DTSTAMP:20260419T161624
CREATED:20220309T041445Z
LAST-MODIFIED:20220309T041731Z
UID:40500-1647511200-1647527400@fmbcommunityfoundation.com
SUMMARY:St Patrick’s Parade on Fort Myers Beach
DESCRIPTION:Participants of the Saint Patrick’s Day Parade will meet at 8am in Santini Plaza.\nParade begins at 10am and will end at  Church of the Accession.\nParty to follow at FMB Women’s Club. 11:30am-2:30pm.
URL:https://fmbcommunityfoundation.com/event/st-patricks-parade/
CATEGORIES:Events
ATTACH;FMTTYPE=image/jpeg:https://fmbcommunityfoundation.com/wp-content/uploads/2022/03/st-patricks-day-parade-fort-myers-beach.jpg
END:VEVENT
END:VCALENDAR