BEGIN:VCALENDAR
VERSION:2.0
PRODID:-//Fort Myers Beach Community Foundation - ECPv6.15.18//NONSGML v1.0//EN
CALSCALE:GREGORIAN
METHOD:PUBLISH
X-ORIGINAL-URL:https://fmbcommunityfoundation.com
X-WR-CALDESC:Events for Fort Myers Beach Community Foundation
REFRESH-INTERVAL;VALUE=DURATION:PT1H
X-Robots-Tag:noindex
X-PUBLISHED-TTL:PT1H
BEGIN:VTIMEZONE
TZID:UTC
BEGIN:STANDARD
TZOFFSETFROM:+0000
TZOFFSETTO:+0000
TZNAME:UTC
DTSTART:20200101T000000
END:STANDARD
END:VTIMEZONE
BEGIN:VEVENT
DTSTART;TZID=UTC:20211106T080000
DTEND;TZID=UTC:20211106T120000
DTSTAMP:20260419T224815
CREATED:20210218T205919Z
LAST-MODIFIED:20210218T210038Z
UID:31730-1636185600-1636200000@fmbcommunityfoundation.com
SUMMARY:Monofilament Madness
DESCRIPTION:The KLCB Marine Cleanup is an annual event during which volunteers go out in boats\, kayaks\, canoes\, jet skis and anything else that floats\, to remove monofilament fishing line and other harmful debris from the mangrove areas of Lee County. The boaters begin working at safe light (dawn) and continue until around noon at which time they are treated to a Volunteer Appreciation Lunch by Sam Galloway Ford. Because of the focus on fishing line\, the project committee has affectionately dubbed the cleanup “Monofilament Madness”. It is hoped that through educational awareness\, the people who are causing the problem will be reached and their behavior modified so that\, among other reasons\, wildlife will be spared agonizing deaths from entanglement in monofilament fishing line. \nMeet at the Mound House:  451 Connecticut St\, Fort Myers Beach\, FL 33931
URL:https://fmbcommunityfoundation.com/event/monofilament-madness/
CATEGORIES:Events
ATTACH;FMTTYPE=image/jpeg:https://fmbcommunityfoundation.com/wp-content/uploads/2021/02/Monofilament-Madness-Fort-Myers-Beach.jpg
END:VEVENT
END:VCALENDAR