BEGIN:VCALENDAR
VERSION:2.0
PRODID:-//Fort Myers Beach Community Foundation - ECPv6.15.18//NONSGML v1.0//EN
CALSCALE:GREGORIAN
METHOD:PUBLISH
X-WR-CALNAME:Fort Myers Beach Community Foundation
X-ORIGINAL-URL:https://fmbcommunityfoundation.com
X-WR-CALDESC:Events for Fort Myers Beach Community Foundation
REFRESH-INTERVAL;VALUE=DURATION:PT1H
X-Robots-Tag:noindex
X-PUBLISHED-TTL:PT1H
BEGIN:VTIMEZONE
TZID:UTC
BEGIN:STANDARD
TZOFFSETFROM:+0000
TZOFFSETTO:+0000
TZNAME:UTC
DTSTART:20200101T000000
END:STANDARD
END:VTIMEZONE
BEGIN:VEVENT
DTSTART;TZID=UTC:20211213T173000
DTEND;TZID=UTC:20211213T190000
DTSTAMP:20260419T224504
CREATED:20211122T193441Z
LAST-MODIFIED:20231012T141051Z
UID:39814-1639416600-1639422000@fmbcommunityfoundation.com
SUMMARY:Membership Meeting Christmas Party
DESCRIPTION:
URL:https://fmbcommunityfoundation.com/event/membership-meeting-christmas-party/
ATTACH;FMTTYPE=image/jpeg:https://fmbcommunityfoundation.com/wp-content/uploads/2021/11/membership-mtg-christmas.jpg
END:VEVENT
BEGIN:VEVENT
DTSTART;TZID=UTC:20211214T090000
DTEND;TZID=UTC:20211214T120000
DTSTAMP:20260419T224504
CREATED:20211122T194155Z
LAST-MODIFIED:20211122T194155Z
UID:39817-1639472400-1639483200@fmbcommunityfoundation.com
SUMMARY:Marine Resource Task Force at Newton Park
DESCRIPTION:
URL:https://fmbcommunityfoundation.com/event/marine-resource-task-force-at-newton-park/
CATEGORIES:Events
ATTACH;FMTTYPE=image/jpeg:https://fmbcommunityfoundation.com/wp-content/uploads/2021/11/MRTF-696x666-1.jpg
END:VEVENT
BEGIN:VEVENT
DTSTART;TZID=UTC:20211228T090000
DTEND;TZID=UTC:20211228T120000
DTSTAMP:20260419T224504
CREATED:20211122T194258Z
LAST-MODIFIED:20211122T194258Z
UID:39820-1640682000-1640692800@fmbcommunityfoundation.com
SUMMARY:Marine Resource Task Force at Newton Park
DESCRIPTION:
URL:https://fmbcommunityfoundation.com/event/marine-resource-task-force-at-newton-park-2/
ATTACH;FMTTYPE=image/jpeg:https://fmbcommunityfoundation.com/wp-content/uploads/2021/11/MRTF-696x666-1.jpg
END:VEVENT
END:VCALENDAR