BEGIN:VCALENDAR
VERSION:2.0
PRODID:-//Fort Myers Beach Community Foundation - ECPv6.15.18//NONSGML v1.0//EN
CALSCALE:GREGORIAN
METHOD:PUBLISH
X-ORIGINAL-URL:https://fmbcommunityfoundation.com
X-WR-CALDESC:Events for Fort Myers Beach Community Foundation
REFRESH-INTERVAL;VALUE=DURATION:PT1H
X-Robots-Tag:noindex
X-PUBLISHED-TTL:PT1H
BEGIN:VTIMEZONE
TZID:UTC
BEGIN:STANDARD
TZOFFSETFROM:+0000
TZOFFSETTO:+0000
TZNAME:UTC
DTSTART:20210101T000000
END:STANDARD
END:VTIMEZONE
BEGIN:VTIMEZONE
TZID:America/New_York
BEGIN:DAYLIGHT
TZOFFSETFROM:-0500
TZOFFSETTO:-0400
TZNAME:EDT
DTSTART:20210314T070000
END:DAYLIGHT
BEGIN:STANDARD
TZOFFSETFROM:-0400
TZOFFSETTO:-0500
TZNAME:EST
DTSTART:20211107T060000
END:STANDARD
BEGIN:DAYLIGHT
TZOFFSETFROM:-0500
TZOFFSETTO:-0400
TZNAME:EDT
DTSTART:20220313T070000
END:DAYLIGHT
BEGIN:STANDARD
TZOFFSETFROM:-0400
TZOFFSETTO:-0500
TZNAME:EST
DTSTART:20221106T060000
END:STANDARD
BEGIN:DAYLIGHT
TZOFFSETFROM:-0500
TZOFFSETTO:-0400
TZNAME:EDT
DTSTART:20230312T070000
END:DAYLIGHT
BEGIN:STANDARD
TZOFFSETFROM:-0400
TZOFFSETTO:-0500
TZNAME:EST
DTSTART:20231105T060000
END:STANDARD
END:VTIMEZONE
BEGIN:VEVENT
DTSTART;TZID=UTC:20220208T090000
DTEND;TZID=UTC:20220208T120000
DTSTAMP:20260420T000327
CREATED:20211122T195937Z
LAST-MODIFIED:20211122T195937Z
UID:39844-1644310800-1644321600@fmbcommunityfoundation.com
SUMMARY:Marine Resource Task Force
DESCRIPTION:Marine Resource Task Force at Newton Park.
URL:https://fmbcommunityfoundation.com/event/marine-resource-task-force-3/
CATEGORIES:Events
ATTACH;FMTTYPE=image/jpeg:https://fmbcommunityfoundation.com/wp-content/uploads/2021/11/MRTF-696x666-1.jpg
END:VEVENT
BEGIN:VEVENT
DTSTART;TZID=America/New_York:20220212T110000
DTEND;TZID=America/New_York:20220212T130000
DTSTAMP:20260420T000327
CREATED:20220118T194315Z
LAST-MODIFIED:20220118T194918Z
UID:40098-1644663600-1644670800@fmbcommunityfoundation.com
SUMMARY:Annual Fashion Show
DESCRIPTION:Saturday February 12\, 2022\n11am-1pm\nBeach Talk Radio \nWATCH LIVE on Facebook or YouTube! \nDon’t Miss the Raffles and Swag Bags!\nBaskets on Display January 31 – February 11\nFort Myers Beach Library\, 3rd Floor\nRaffle Tickets 7 for $10 – The Swag Bag $30 \nLAST CHANCE to View Baskets will be on February 12th at The Islander in Santini Plaza from 9am-11am. \nFashions provided by The Islander\, Leani’s and Island Girl \n  \n 
URL:https://fmbcommunityfoundation.com/event/annual-fashion-show/
CATEGORIES:Events
ATTACH;FMTTYPE=image/jpeg:https://fmbcommunityfoundation.com/wp-content/uploads/2022/01/image0.jpeg
END:VEVENT
BEGIN:VEVENT
DTSTART;TZID=UTC:20220216T173000
DTEND;TZID=UTC:20220216T190000
DTSTAMP:20260420T000327
CREATED:20211122T200059Z
LAST-MODIFIED:20211122T200059Z
UID:39846-1645032600-1645038000@fmbcommunityfoundation.com
SUMMARY:Membership Meeting
DESCRIPTION:Membership meeting at Island Pancake House.
URL:https://fmbcommunityfoundation.com/event/membership-meeting-9/
CATEGORIES:Events
ATTACH;FMTTYPE=image/jpeg:https://fmbcommunityfoundation.com/wp-content/uploads/2020/12/MembershipMeeting.jpg
END:VEVENT
BEGIN:VEVENT
DTSTART;TZID=UTC:20220222T090000
DTEND;TZID=UTC:20220222T120000
DTSTAMP:20260420T000327
CREATED:20211122T200221Z
LAST-MODIFIED:20211122T200221Z
UID:39850-1645520400-1645531200@fmbcommunityfoundation.com
SUMMARY:Marine Resource Task
DESCRIPTION:Marine Resource Task Force at Newton Park.
URL:https://fmbcommunityfoundation.com/event/marine-resource-task/
CATEGORIES:Events
ATTACH;FMTTYPE=image/jpeg:https://fmbcommunityfoundation.com/wp-content/uploads/2021/11/MRTF-696x666-1.jpg
END:VEVENT
BEGIN:VEVENT
DTSTART;TZID=UTC:20220224T190000
DTEND;TZID=UTC:20220224T210000
DTSTAMP:20260420T000327
CREATED:20211208T020449Z
LAST-MODIFIED:20220224T010159Z
UID:39921-1645729200-1645736400@fmbcommunityfoundation.com
SUMMARY:Margarita Time with the Caribbean Chillers #WeAreFMB LIVE!
DESCRIPTION:This season\, the Fort Myers Beach Community Foundation presents its outdoor concert series\, #WeAreFMB Live! in partnership with Fish Tale Marina. \nThe concerts of  #WeAreFMB Live! will take place at Fish Tale Marina\, 7225 Estero Blvd.\, Fort Myers Beach. Refreshments will be available for purchase on site at Fish-Tale Waterfront Dining. Gates will open at 6pm. Concerts begin at 7pm. Chairs will be provided. Parking is available at Fish Tale Marina. \nTickets $30 Per Concert\nPrint and save your emailed receipt\, as it will serve as your concert ticket.\n In the event of inclement weather\, concerts will be held in Fish Tale Marina’s Propeller Lounge. Tickets are non-refundable.  \nWhen you arrive on the day of the concert\, please present your emailed receipt to our volunteers. They will provide you with a wristband for entrance to the event. \nJoin us at #WeAreFMB Live! Enjoy Live performances by talented musicians! \nTickets will be available at the door with standing room only. \n 
URL:https://fmbcommunityfoundation.com/event/margarita-time-with-the-caribbean-chillers-wearefmb-live/
CATEGORIES:Events
ATTACH;FMTTYPE=image/jpeg:https://fmbcommunityfoundation.com/wp-content/uploads/2021/12/Margarita-time-with-the-Caribbean-Chillers-image-fmb-community-foundation-concert-series.jpg
END:VEVENT
END:VCALENDAR