BEGIN:VCALENDAR
VERSION:2.0
PRODID:-//Fort Myers Beach Community Foundation - ECPv6.15.18//NONSGML v1.0//EN
CALSCALE:GREGORIAN
METHOD:PUBLISH
X-WR-CALNAME:Fort Myers Beach Community Foundation
X-ORIGINAL-URL:https://fmbcommunityfoundation.com
X-WR-CALDESC:Events for Fort Myers Beach Community Foundation
REFRESH-INTERVAL;VALUE=DURATION:PT1H
X-Robots-Tag:noindex
X-PUBLISHED-TTL:PT1H
BEGIN:VTIMEZONE
TZID:America/New_York
BEGIN:DAYLIGHT
TZOFFSETFROM:-0500
TZOFFSETTO:-0400
TZNAME:EDT
DTSTART:20250309T070000
END:DAYLIGHT
BEGIN:STANDARD
TZOFFSETFROM:-0400
TZOFFSETTO:-0500
TZNAME:EST
DTSTART:20251102T060000
END:STANDARD
BEGIN:DAYLIGHT
TZOFFSETFROM:-0500
TZOFFSETTO:-0400
TZNAME:EDT
DTSTART:20260308T070000
END:DAYLIGHT
BEGIN:STANDARD
TZOFFSETFROM:-0400
TZOFFSETTO:-0500
TZNAME:EST
DTSTART:20261101T060000
END:STANDARD
BEGIN:DAYLIGHT
TZOFFSETFROM:-0500
TZOFFSETTO:-0400
TZNAME:EDT
DTSTART:20270314T070000
END:DAYLIGHT
BEGIN:STANDARD
TZOFFSETFROM:-0400
TZOFFSETTO:-0500
TZNAME:EST
DTSTART:20271107T060000
END:STANDARD
END:VTIMEZONE
BEGIN:VEVENT
DTSTART;TZID=America/New_York:20260101T080000
DTEND;TZID=America/New_York:20260101T120000
DTSTAMP:20260421T160729
CREATED:20250630T145300Z
LAST-MODIFIED:20250630T145300Z
UID:42502-1767254400-1767268800@fmbcommunityfoundation.com
SUMMARY:Beach Cleanup
DESCRIPTION:TBA
URL:https://fmbcommunityfoundation.com/event/beach-cleanup/
CATEGORIES:Events
ATTACH;FMTTYPE=image/jpeg:https://fmbcommunityfoundation.com/wp-content/uploads/2025/06/beach-cleanup.jpg
END:VEVENT
BEGIN:VEVENT
DTSTART;TZID=America/New_York:20260108T173000
DTEND;TZID=America/New_York:20260108T190000
DTSTAMP:20260421T160729
CREATED:20250630T145424Z
LAST-MODIFIED:20251212T165404Z
UID:42505-1767893400-1767898800@fmbcommunityfoundation.com
SUMMARY:Board Meeting
DESCRIPTION:TBA
URL:https://fmbcommunityfoundation.com/event/board-meeting-12/
ATTACH;FMTTYPE=image/jpeg:https://fmbcommunityfoundation.com/wp-content/uploads/2023/09/board-meeting-1.jpg
END:VEVENT
BEGIN:VEVENT
DTSTART;TZID=America/New_York:20260115T170000
DTEND;TZID=America/New_York:20260115T190000
DTSTAMP:20260421T160729
CREATED:20250630T145629Z
LAST-MODIFIED:20250630T145629Z
UID:42507-1768496400-1768503600@fmbcommunityfoundation.com
SUMMARY:Social Hour
DESCRIPTION:TBA
URL:https://fmbcommunityfoundation.com/event/social-hour/
CATEGORIES:Events
ATTACH;FMTTYPE=image/png:https://fmbcommunityfoundation.com/wp-content/uploads/2024/08/images.png
END:VEVENT
BEGIN:VEVENT
DTSTART;TZID=America/New_York:20260117T080000
DTEND;TZID=America/New_York:20260117T170000
DTSTAMP:20260421T160729
CREATED:20250630T145849Z
LAST-MODIFIED:20250630T145924Z
UID:42509-1768636800-1768669200@fmbcommunityfoundation.com
SUMMARY:Putt n Pub Crawl
DESCRIPTION:More details to come.
URL:https://fmbcommunityfoundation.com/event/putt-n-pub-crawl/
CATEGORIES:Events
ATTACH;FMTTYPE=image/jpeg:https://fmbcommunityfoundation.com/wp-content/uploads/2025/06/putt.jpg
END:VEVENT
BEGIN:VEVENT
DTSTART;TZID=America/New_York:20260121T170000
DTEND;TZID=America/New_York:20260121T183000
DTSTAMP:20260421T160729
CREATED:20250630T150053Z
LAST-MODIFIED:20250630T150111Z
UID:42512-1769014800-1769020200@fmbcommunityfoundation.com
SUMMARY:Membership Meeting
DESCRIPTION:Island Pancake House
URL:https://fmbcommunityfoundation.com/event/membership-meeting-13/
ATTACH;FMTTYPE=image/jpeg:https://fmbcommunityfoundation.com/wp-content/uploads/2023/09/MEMBERSHIP-MEETING-G.jpg
END:VEVENT
END:VCALENDAR